BEGIN:VCALENDAR
VERSION:2.0
PRODID:-//Omroep Almere - ECPv6.15.20//NONSGML v1.0//EN
CALSCALE:GREGORIAN
METHOD:PUBLISH
X-WR-CALNAME:Omroep Almere
X-ORIGINAL-URL:https://omroepalmere.nl
X-WR-CALDESC:Evenementen voor Omroep Almere
REFRESH-INTERVAL;VALUE=DURATION:PT1H
X-Robots-Tag:noindex
X-PUBLISHED-TTL:PT1H
BEGIN:VTIMEZONE
TZID:Europe/Amsterdam
BEGIN:DAYLIGHT
TZOFFSETFROM:+0100
TZOFFSETTO:+0200
TZNAME:CEST
DTSTART:20230326T010000
END:DAYLIGHT
BEGIN:STANDARD
TZOFFSETFROM:+0200
TZOFFSETTO:+0100
TZNAME:CET
DTSTART:20231029T010000
END:STANDARD
BEGIN:DAYLIGHT
TZOFFSETFROM:+0100
TZOFFSETTO:+0200
TZNAME:CEST
DTSTART:20240331T010000
END:DAYLIGHT
BEGIN:STANDARD
TZOFFSETFROM:+0200
TZOFFSETTO:+0100
TZNAME:CET
DTSTART:20241027T010000
END:STANDARD
BEGIN:DAYLIGHT
TZOFFSETFROM:+0100
TZOFFSETTO:+0200
TZNAME:CEST
DTSTART:20250330T010000
END:DAYLIGHT
BEGIN:STANDARD
TZOFFSETFROM:+0200
TZOFFSETTO:+0100
TZNAME:CET
DTSTART:20251026T010000
END:STANDARD
END:VTIMEZONE
BEGIN:VEVENT
DTSTART;TZID=Europe/Amsterdam:20241130T120000
DTEND;TZID=Europe/Amsterdam:20241130T170000
DTSTAMP:20260426T034548
CREATED:20241127T085500Z
LAST-MODIFIED:20241127T085618Z
UID:49550-1732968000-1732986000@omroepalmere.nl
SUMMARY:Route 48
DESCRIPTION:Almeerse beeldende kunstenaars met een atelier openen zaterdag 30 november en zondag 1 december hun deuren voor jou. \nIeder jaar rond en op de verjaardag van onze stad Almere\, 30 november\, kun je bij heel veel ateliers kunst kijken\, bewonderen een aanschaffen. Dit jaar doen maar liefst 73 kunstenaars mee verdeeld over eigen ateliers\, broedplaatsen en voor deze gelegenheid zijn kunstenaars zonder atelier bij kunstenaars met een atelier ingetrokken. \nDe open atelierroute is in ieder stadsdeel de moeite waard. Mooie gelegenheid ook om eens een ander stadsdeel te bezoeken en te ontdekken wat daar allemaal op het gebied van beeldende kunst aan de hand is. \nEn heel fijn dat de verjaardag van Almere\, 30 november\, vlak voor de feestdagen valt. Tijdens de atelierroute kun je prachtige cadeaus scoren. De meeste deelnemende kunstenaars spelen er goed op in en hebben voor iedere beurs wel een mooi werkje aan te bieden. \nFacts: \n\nZaterdag 30 november 12-17 uur\nZondag 1 december 12 – 17 uur\n73 kunstenaars verdeeld over alle 5 stadsdelen (Hout\, Haven\, Poort\, Stad en Buiten)\nCheck de plattegrond om vooraf de route uit te stippelen\, verkrijgbaar bij o.a. VVV\nOp atelierroute036.nl tref je een overzicht van alle deelnemende kunstenaars en de plattegrond aan. Goede plek om je te oriënteren\nDe kunstenaars hebben er zin in!\n\nRoute 48 wordt georganiseerd door Stichting Art Culture in samenwerking met Stichting Design en Kunst in de Openbare Ruimte (DKOR) . Mede mogelijk gemaakt door de gemeente Almere.
URL:https://omroepalmere.nl/evenement/route-48/
LOCATION:Almere\, Almere\, Almere\, Flevoland\, Netherlands
CATEGORIES:Atelierroute
ATTACH;FMTTYPE=image/jpeg:https://omroepalmere.nl/wp-content/uploads/2024/11/Plattegrond-persbericht.jpg
ORGANIZER;CN="Stichting Art Culture":MAILTO:muriel@startculture.com
END:VEVENT
END:VCALENDAR