BEGIN:VCALENDAR
VERSION:2.0
PRODID:-//Omroep Almere - ECPv6.15.20//NONSGML v1.0//EN
CALSCALE:GREGORIAN
METHOD:PUBLISH
X-WR-CALNAME:Omroep Almere
X-ORIGINAL-URL:https://omroepalmere.nl
X-WR-CALDESC:Evenementen voor Omroep Almere
REFRESH-INTERVAL;VALUE=DURATION:PT1H
X-Robots-Tag:noindex
X-PUBLISHED-TTL:PT1H
BEGIN:VTIMEZONE
TZID:Europe/Amsterdam
BEGIN:DAYLIGHT
TZOFFSETFROM:+0100
TZOFFSETTO:+0200
TZNAME:CEST
DTSTART:20230326T010000
END:DAYLIGHT
BEGIN:STANDARD
TZOFFSETFROM:+0200
TZOFFSETTO:+0100
TZNAME:CET
DTSTART:20231029T010000
END:STANDARD
BEGIN:DAYLIGHT
TZOFFSETFROM:+0100
TZOFFSETTO:+0200
TZNAME:CEST
DTSTART:20240331T010000
END:DAYLIGHT
BEGIN:STANDARD
TZOFFSETFROM:+0200
TZOFFSETTO:+0100
TZNAME:CET
DTSTART:20241027T010000
END:STANDARD
BEGIN:DAYLIGHT
TZOFFSETFROM:+0100
TZOFFSETTO:+0200
TZNAME:CEST
DTSTART:20250330T010000
END:DAYLIGHT
BEGIN:STANDARD
TZOFFSETFROM:+0200
TZOFFSETTO:+0100
TZNAME:CET
DTSTART:20251026T010000
END:STANDARD
END:VTIMEZONE
BEGIN:VEVENT
DTSTART;TZID=Europe/Amsterdam:20240204T110000
DTEND;TZID=Europe/Amsterdam:20240204T160000
DTSTAMP:20260425T134239
CREATED:20240110T132924Z
LAST-MODIFIED:20240110T141118Z
UID:42280-1707044400-1707062400@omroepalmere.nl
SUMMARY:Mountainbiken\, heerlijk actief. Krijg nu de kans!
DESCRIPTION:Altijd al willen leren mountainbiken of juist je techniek verbeteren? Op zondag 4 februari biedt een ervaren instructeur uitgebreide mountainbike clinics in boswachterij Almeerderhout. \nMountainbiken is een heerlijke sport in de buitenlucht en kan het hele jaar beoefend worden. \nLekker crossen door de bossen \nOutdoorpark SEC Almere is het officiële startpunt van een prachtig MTB-parcours door de natuur. Als trailcenter organiseren ze mountainbike clinics voor jong en oud. Ook met koud weer is mountainbiken een heerlijke activiteit: je wordt vanzelf warm! \nPraktisch \nJe mag je eigen mountainbike meenemen\, maar kan er ook een huren als onderdeel van de clinic. \nLeeftijd: vanaf 12 jaar \nMeer informatie en reserveren: https://www.outdoorparkalmere.nl/arrangement/mountainbike-open-inschrijving/
URL:https://omroepalmere.nl/evenement/mountainbiken-heerlijk-actief-je-krijgt-nu-de-kans/
LOCATION:Outdoorpark SEC Almere\, Verlaatweg 2\, Almere\, 1358 AJ\, Nederland
CATEGORIES:Sporten
ATTACH;FMTTYPE=image/jpeg:https://omroepalmere.nl/wp-content/uploads/2024/01/Mountainbike-2-scaled.jpg
ORGANIZER;CN="Outdoorpark SEC Almere":MAILTO:info@outdoorparkalmere.nl
END:VEVENT
END:VCALENDAR