BEGIN:VCALENDAR
VERSION:2.0
PRODID:-//Omroep Almere - ECPv6.15.20//NONSGML v1.0//EN
CALSCALE:GREGORIAN
METHOD:PUBLISH
X-ORIGINAL-URL:https://omroepalmere.nl
X-WR-CALDESC:Evenementen voor Omroep Almere
REFRESH-INTERVAL;VALUE=DURATION:PT1H
X-Robots-Tag:noindex
X-PUBLISHED-TTL:PT1H
BEGIN:VTIMEZONE
TZID:Europe/Amsterdam
BEGIN:DAYLIGHT
TZOFFSETFROM:+0100
TZOFFSETTO:+0200
TZNAME:CEST
DTSTART:20230326T010000
END:DAYLIGHT
BEGIN:STANDARD
TZOFFSETFROM:+0200
TZOFFSETTO:+0100
TZNAME:CET
DTSTART:20231029T010000
END:STANDARD
BEGIN:DAYLIGHT
TZOFFSETFROM:+0100
TZOFFSETTO:+0200
TZNAME:CEST
DTSTART:20240331T010000
END:DAYLIGHT
BEGIN:STANDARD
TZOFFSETFROM:+0200
TZOFFSETTO:+0100
TZNAME:CET
DTSTART:20241027T010000
END:STANDARD
BEGIN:DAYLIGHT
TZOFFSETFROM:+0100
TZOFFSETTO:+0200
TZNAME:CEST
DTSTART:20250330T010000
END:DAYLIGHT
BEGIN:STANDARD
TZOFFSETFROM:+0200
TZOFFSETTO:+0100
TZNAME:CET
DTSTART:20251026T010000
END:STANDARD
BEGIN:DAYLIGHT
TZOFFSETFROM:+0100
TZOFFSETTO:+0200
TZNAME:CEST
DTSTART:20260329T010000
END:DAYLIGHT
BEGIN:STANDARD
TZOFFSETFROM:+0200
TZOFFSETTO:+0100
TZNAME:CET
DTSTART:20261025T010000
END:STANDARD
END:VTIMEZONE
BEGIN:VEVENT
DTSTART;TZID=Europe/Amsterdam:20240229T200000
DTEND;TZID=Europe/Amsterdam:20240229T223000
DTSTAMP:20260423T011824
CREATED:20240222T132606Z
LAST-MODIFIED:20240222T132606Z
UID:43766-1709236800-1709245800@omroepalmere.nl
SUMMARY:Eerlijk sprookje voor volwassenen over ongelijkheid
DESCRIPTION:Samen met Het Zuidelijk Toneel maakte Stichting Nieuwe Helden de voorstelling En ze leefden nog lang en gelukkig van. Te zien in Corrosia Theater\, Expo & Film op donderdag 29 februari. Aanvang 20 uur. \nStichting Nieuwe Helden deed het! Ze interviewde de afgelopen 5 jaar kinderen over ongelijkheid en armoede. Hoe zouden zij het aanpakken als ze de baas van Nederland waren? \nArmoede is overal \nNederland is een rijk land en toch is er veel armoede en ongelijkheid. Het was één van de belangrijke verkiezingsonderwerpen afgelopen november. Ondanks dat het hoog op ieders agenda staat\, verandert er nog maar weinig. \nTussen de 6 à 8 % van de Nederlandse bevolking maakt deel uit van een gezin met een inkomen onder de lage-inkomensgrens en loopt zo risico op armoede. Dat is schrijnend\, zeker nu inflatie en stijgende energiekosten het probleem op scherp stellen. \nEen sprookje van deze tijd \nDaarom keert Het Zuidelijk Toneel de rollen om: in een prachtig decor hoor en zie je een aantal kinderen vertellen wat zij zouden doen om armoede op te lossen. En ze noemen het een sprookje van deze tijd. Laat je dus verrassen\, raken\, verwonderen en verbazen en heel misschien weer even geloven\, dat sprookjes bestaan. \nAlle informatie over deze voorstelling op: www.cultureelcentrumcorrosia.nl / www.corrosia.nl.
URL:https://omroepalmere.nl/evenement/eerlijk-sprookje-voor-volwassenen-over-ongelijkheid/
LOCATION:Corrosia Theater\, Expo & Film\, Markt 43\, Almere\, 1354 AP\, Nederland
CATEGORIES:Theatervoorstellingen
ATTACH;FMTTYPE=image/jpeg:https://omroepalmere.nl/wp-content/uploads/2024/02/En-ze-leefden-nog-lang-en-gelukkig_Het-Zuidelijk-Toneel-en-Stichting-Nieuwe-Helden_Sofie-Knijff_3-scaled.jpg
END:VEVENT
BEGIN:VEVENT
DTSTART;TZID=Europe/Amsterdam:20240323T200000
DTEND;TZID=Europe/Amsterdam:20240323T230000
DTSTAMP:20260423T011824
CREATED:20240223T112429Z
LAST-MODIFIED:20240223T112524Z
UID:43824-1711224000-1711234800@omroepalmere.nl
SUMMARY:Queer Comedy Night
DESCRIPTION:Op 23 maart organiseert Winter Pride Almere in samenwerking met Pride Comedy in Poppodium de Meester in Almere de allereerste Queer Comedy Night in Almere. Jörgen Raymann\, official supporter van Winter Pride Almere\, is deze avond de MC. Samen met de comedians van Pride Comedy; Wiam Elnaggar\, Frank Westerink\, Anne Ruitenberg\, Davey Jay Geernaert en Daan Fares wordt dit een avond vol lachen\, plezier en een dosis onvergetelijke humor!
URL:https://omroepalmere.nl/evenement/queer-comedy-night/
LOCATION:Poppodium de Meester\, Rentmeesterstraat 2\, Almere Stad\, 1315 JS
CATEGORIES:Theatervoorstellingen
ATTACH;FMTTYPE=image/jpeg:https://omroepalmere.nl/wp-content/uploads/2024/02/3d-scaled.jpg
ORGANIZER;CN="Winter Pride Almere":MAILTO:vraag@winterpridealmere.nl
END:VEVENT
BEGIN:VEVENT
DTSTART;TZID=Europe/Amsterdam:20240414T201500
DTEND;TZID=Europe/Amsterdam:20240414T223000
DTSTAMP:20260423T011824
CREATED:20240409T074601Z
LAST-MODIFIED:20240409T075349Z
UID:45000-1713125700-1713133800@omroepalmere.nl
SUMMARY:YAMATO DRUMMERS - HINOTORI
DESCRIPTION:Vol trots presenteert Yamato in het voorjaar van 2024 de nieuwe wereldtour: “HINOTORI” in Nederland\n\n\n\n\n\nVanaf 13 april tot eind mei 2024 zullen de YAMATO Drummers 24 (!) shows geven in Nederland.\n\n\n“HINOTORI” is een atletisch en muzikaal spektakel met naast de drums\, veel aandacht voor kostuums\, vormgeving en belichting. Op het podium staan de 12 drummers met meer dan 40 Taiko-drums die allemaal een ander karakter hebben. De grootste trommel is Odaiko die\, met een doorsnee van 2 meter en een gewicht 500 kilo\, gemaakt is uit een 400 jaar oude boom.\n\nZowel fysiek al mentaal zijn de Yamato drummers ijzersterk. Het bespelen van de soms manshoge trommels is een combinatie van technische beheersing én topsport. Alleen door intensieve training en uiterste concentratie bereiken de leden van Yamato de fysieke conditie\, die hen in staat stelt deze inspanning te leveren. De drummers verliezen elk zo’n twee liter vocht per voorstelling.\n\n\n\nIntens fysieke kracht ontmoet verfijnde subtiliteit. De drummers voeren je moeiteloos mee in hun ritmische wereld\, dankzij hun grootse en meeslepende spel waar de uitbundige energie en kracht letterlijk en figuurlijk van afspat. Ongeremde dynamiek\, vertederende humor\, delicate verstilling en gedisciplineerde perfectie zijn de ingrediënten die Yamato\, the Drummers of Japan\, aan de top hebben gebracht.\n\n\n\nMet aanstekelijke energie en een geoliede samenwerking brengt Yamato de eeuwenoude kunst van het Taiko drummen in het theater. De essentie van een optreden van Yamato is het uitwisselen van energie met het publiek. De trillingen van de drums raken je letterlijk voelbaar diep in je hart en de akoestische druk overtreft het voorstellingsvermogen.\n\n\n\nYamato werd in 1993 opgericht in Asuka-Japan en reist de wereld over als een hechte groep die alles zelf bedenkt en creëert. Van muzikale composities\, choreografie\, theaterproductie\, licht\, geluid en techniek tot kostuums\, visagie en decor. Zelfs de ‘bachi’ (drumstokken) die zij gebruiken tijdens de voorstelling maken zij zelf.\n\n\nYamato is een erkende pionier in de wereld van de Taiko omdat zij vanaf hun oprichting hebben gebroken met de traditionele begrenzingen aan stijl door óók vrouwelijke drummers in het gezelschap te hebben.\nYamato bestaat tijdens deze tour uit 6 jonge vrouwen en 6 jonge mannen.\n\n\n\n\n\nIn 2023 beleefden zij hun 30-jarig jubileum en inmiddels hebben zij al ruim 4000 concerten gegeven in meer dan 54 landen met wereldwijd meer dan 7 miljoen bezoekers…\n\n\n\n\n\n\nInfo op http://www.yamatodrummers.com/about-us.html én\nAlle tourdata en locaties: http://www.yamato.jp/schedule/n2024.html\n\nPhoto by Hiroshi Seo
URL:https://omroepalmere.nl/evenement/yamato-drummers-hinotori/
LOCATION:Kunstlinie\, Esplanade 10\, Almere\, 1315 TA\, Nederland
CATEGORIES:Theatervoorstellingen
ATTACH;FMTTYPE=image/jpeg:https://omroepalmere.nl/wp-content/uploads/2024/04/hintori-drummers.jpg
END:VEVENT
BEGIN:VEVENT
DTSTART;TZID=Europe/Amsterdam:20240425T200000
DTEND;TZID=Europe/Amsterdam:20240425T223000
DTSTAMP:20260423T011824
CREATED:20240409T105533Z
LAST-MODIFIED:20240409T105533Z
UID:45012-1714075200-1714084200@omroepalmere.nl
SUMMARY:Het Zuidelijk Toneel speelt Meer dan duizend woorden
DESCRIPTION:Het Zuidelijk Toneel speelt op donderdag 25 april de voorstelling Meer dan duizend woorden in Corrosia Theater\, Expo & Film. Een intrigerend theaterstuk dat de complexiteit van beelden en verhalen verkent. Aanvang 20 uur.  Geïnspireerd door de carrière van fotograaf Ahmet Polat (Fotograaf des Vaderlands en bekent van zijn medewerking aan programma’s als het Perfecte Plaatje en Buitenhof) en zijn band met Turkije\, biedt deze voorstelling een uniek kijkje achter de lens. \nEen fotograaf en een acteur samen op het podium\nIn Meer dan duizend woorden worden theater en fotografie samengebracht om te ontdekken hoe verhalen worden gevormd en geïnterpreteerd. De Belgisch-Marokkaanse acteur en theatermaker Rashif El Kaoui en de Turks-Nederlandse fotograaf Ahmet Polat gaan samen op een theatrale foto-expeditie en creëren op het snijvlak van fictie en documentaire een prachtige voorstelling.  \nTerwijl El Kaoui in Polat’s huid kruipt en diens ervaringen in Turkije op indringende wijze vertelt\, wordt je meegenomen door de herinneringen en emoties van Ahmet Polat. Als toeschouwer geeft Polat tijdens de voorstelling commentaar op wat hij ziet: de interpretatie van het Polat’s verhaal en foto’s door El Kaoui. Het maakt Meer dan duizend woorden een boeiende reflectie op de kracht en het gevaar van beelden.   \nDe voorstelling is een must-see voor liefhebbers van theater en fotografie en iedereen die de grenzen van de verbeelding wil verkennen.   \n  \nMeer dan duizend woorden – donderdag 25 april – 20 uur – Corrosia Theater\, Expo & Film – Almere Haven  \n  \nVoor meer informatie en tickets\, bezoek onze website www.cultureelcentrumcorrosia.nl.  \n 
URL:https://omroepalmere.nl/evenement/het-zuidelijk-toneel-speelt-meer-dan-duizend-woorden/
LOCATION:Corrosia Theater\, Expo & Film\, Markt 43\, Almere\, 1354 AP\, Nederland
CATEGORIES:Theatervoorstellingen
ATTACH;FMTTYPE=image/jpeg:https://omroepalmere.nl/wp-content/uploads/2024/04/Meer-dan-duizend-woorden_Het-Zuidelijk-Toneel_Sofie-Knijff_liggend_MidRes-scaled.jpg
END:VEVENT
BEGIN:VEVENT
DTSTART;TZID=Europe/Amsterdam:20240513T133000
DTEND;TZID=Europe/Amsterdam:20240513T150000
DTSTAMP:20260423T011824
CREATED:20240329T132243Z
LAST-MODIFIED:20240329T132243Z
UID:44778-1715607000-1715612400@omroepalmere.nl
SUMMARY:Karaoke in theater De Glasbak
DESCRIPTION:Theater De Glasbak & Shakti Power presenteren: Karaoke \nWil je heerlijk meezingen en/of dansen op ‘Goldie’s Oldies’ uit de jaren 50\, 60\, 70 of 80? \nAlles kan! Inclusief een gratis kopje koffie of thee met een koekje. \n\nDatum: 13 mei\nTijd: 13:30 – 15:00 uur\nEntree: 5\,- p.p.\n\nKaarten zijn te bestellen via Eventbrite: Karaoke & lekker dansen in De Glasbak Tickets\, Mon\, May 13\, 2024 at 1:30 PM | Eventbrite \nBeperkte kaarten af te halen bij de kassa van het theater. Aanmelden is verplicht via aanmeldingendeglasbak@deschoor.nl \nVragen? Bel 06-39098137
URL:https://omroepalmere.nl/evenement/karaoke-in-theater-de-glasbak/
LOCATION:Theater De Glasbak\, Lierstraat 21\, Almere Muziekwijk\, Flevoland\, 1312 JZ\, Nederland
CATEGORIES:Theater-karaoke,Theatervoorstellingen
ATTACH;FMTTYPE=image/jpeg:https://omroepalmere.nl/wp-content/uploads/2024/03/Kopie-van-Shakti-Power-en-De-Glasbak-14.8-x-10-cm-scaled.jpg
ORGANIZER;CN="Theater De Glasbak":MAILTO:glasbak@deschoor.nl
END:VEVENT
BEGIN:VEVENT
DTSTART;TZID=Europe/Amsterdam:20240614T210000
DTEND;TZID=Europe/Amsterdam:20240614T230000
DTSTAMP:20260423T011824
CREATED:20240329T132904Z
LAST-MODIFIED:20240329T132904Z
UID:44783-1718398800-1718406000@omroepalmere.nl
SUMMARY:Cabaretier Kor Hoebe in theater De Glasbak-laatste kaarten!
DESCRIPTION:Cabaretier Kor Hoebe in Theater De Glasbak \nStap binnen in de onvergetelijke wereld van Kor Hoebe’s avondvullende theatervoorstelling ‘Kordaat’\, waar autobiografische verhalen een hilarische twist krijgen. Als Poolse Amsterdammer\, met een ervaring in jeugdgevangenissen\, deelt cabaretier Kor Hoebe niet alleen intrigerende anekdotes\, maar ook grappige inzichten over de Poolse cultuur\, dating en de multiculturele samenleving. Met zijn innemende stijl spreekt hij zowel jong als oud aan. \nMet een aaneenschakeling van sterke grappen en actieve publieksinteractie biedt zijn show een hoge grapdichtheid die het publiek van begin tot eind boeit. Kor Hoebe staat bekend om zijn voorliefde voor direct contact met zijn publiek\, waarbij hij interactie aangaat en een bruisende sfeer creëert. \nKor Hoebe is winnaar van de Comedy Slam 2018 en gaat viral op zowel Youtube als TikTok. \nKaarten zijn te koop via Eventbrite voor €17\,50\,- p.p. via https://www.eventbrite.nl/e/850732954167?aff=oddtdtcreator \nBeperkte kaarten aan de kassa verkrijgbaar. Aanmelden is verplicht via aanmeldingendeglasbak@deschoor.nl
URL:https://omroepalmere.nl/evenement/cabaretier-kor-hoebe-in-theater-de-glasbak-laatste-kaarten/
LOCATION:Theater De Glasbak\, Lierstraat 21\, Almere Muziekwijk\, Flevoland\, 1312 JZ\, Nederland
CATEGORIES:Theatervoorstellingen
ATTACH;FMTTYPE=image/jpeg:https://omroepalmere.nl/wp-content/uploads/2024/03/Kor-Hoebe-4-scaled.jpeg
ORGANIZER;CN="Theater De Glasbak":MAILTO:glasbak@deschoor.nl
END:VEVENT
BEGIN:VEVENT
DTSTART;TZID=Europe/Amsterdam:20240615T193000
DTEND;TZID=Europe/Amsterdam:20240615T220000
DTSTAMP:20260423T011824
CREATED:20240609T001122Z
LAST-MODIFIED:20240609T001122Z
UID:46568-1718479800-1718488800@omroepalmere.nl
SUMMARY:Saturday evening June 15th\, Casa Casla\, Almere Stad:
DESCRIPTION:Saturday evening June 15th\, Casa Casla\, Almere Stad:\nANTHOLOGY ~ LIVE =\n6 performers in various combinations play 13 short stories\, using movement improvisations/instant compositions\, music & text.\nTickets and information: https://anthology.eventgoose.com/\nSharing/Spreading is much appreciated!\nPhotos by Erik Frings.
URL:https://omroepalmere.nl/evenement/saturday-evening-june-15th-casa-casla-almere-stad/
LOCATION:Casa Casla\, Weerwaterplein 3\, Almere Stad\, 1324 EE
CATEGORIES:Theatervoorstellingen
ATTACH;FMTTYPE=image/jpeg:https://omroepalmere.nl/wp-content/uploads/2024/06/foto-Jos.jpg
END:VEVENT
BEGIN:VEVENT
DTSTART;TZID=Europe/Amsterdam:20250531T150000
DTEND;TZID=Europe/Amsterdam:20250531T160000
DTSTAMP:20260423T011824
CREATED:20250317T150633Z
LAST-MODIFIED:20250317T152506Z
UID:51241-1748703600-1748707200@omroepalmere.nl
SUMMARY:WAUW! (2\,5+)
DESCRIPTION:WAUW! is een fysieke en muzikale peutervoorstelling en laat de wereld zien door de ogen van peuters en kleuters. Zij vinden immers alles wauw\, zoals hun eigen spiegelbeeld in de etalage van een winkelraam. En waar volwassenen een omgevallen plantenpot als obstakel en vies klusje zien\, zijn jonge kinderen meer geïnteresseerd in de regenwormen die tevoorschijn komen. De wereld van volwassenen is vaak veelal zwart/wit terwijl kinderen juist veel meer kleur zien. \nDeze voorstelling laat zien dat dingen die alledaags lijken of zelfs als hindernis worden ervaren vaak veel interessanter\, spannender en mooier zijn dan we in eerste instantie denken. De WAUW factor is er vrijwel altijd\, zolang we maar goed kijken. \n  \n“Prachtig! Wat een fantasievolle voorstelling; zoveel beelden\, humor\, detail. En met simpele scenografische elementen die zoveel emoties\nen associaties oproepen :-))” – Jorge Isaac / artistiek leider Black Pencil \n \nKoop hier je tickets: WAUW (2\,5+) – Kunstlinie
URL:https://omroepalmere.nl/evenement/wauw/
LOCATION:Kunstlinie\, Esplanade 10\, Almere\, 1315 TA\, Nederland
CATEGORIES:Jeugd,Theatervoorstellingen
ATTACH;FMTTYPE=image/jpeg:https://omroepalmere.nl/wp-content/uploads/2025/03/WAUW_BonteHond_Digitaal_Liggend_HD.jpg
ORGANIZER;CN="Stichting Theater- en Productiehuis Almere":MAILTO:info@bontehond.net
END:VEVENT
END:VCALENDAR