BEGIN:VCALENDAR
VERSION:2.0
PRODID:-//Omroep Almere - ECPv6.15.20//NONSGML v1.0//EN
CALSCALE:GREGORIAN
METHOD:PUBLISH
X-WR-CALNAME:Omroep Almere
X-ORIGINAL-URL:https://omroepalmere.nl
X-WR-CALDESC:Evenementen voor Omroep Almere
REFRESH-INTERVAL;VALUE=DURATION:PT1H
X-Robots-Tag:noindex
X-PUBLISHED-TTL:PT1H
BEGIN:VTIMEZONE
TZID:Europe/Amsterdam
BEGIN:DAYLIGHT
TZOFFSETFROM:+0100
TZOFFSETTO:+0200
TZNAME:CEST
DTSTART:20240331T010000
END:DAYLIGHT
BEGIN:STANDARD
TZOFFSETFROM:+0200
TZOFFSETTO:+0100
TZNAME:CET
DTSTART:20241027T010000
END:STANDARD
BEGIN:DAYLIGHT
TZOFFSETFROM:+0100
TZOFFSETTO:+0200
TZNAME:CEST
DTSTART:20250330T010000
END:DAYLIGHT
BEGIN:STANDARD
TZOFFSETFROM:+0200
TZOFFSETTO:+0100
TZNAME:CET
DTSTART:20251026T010000
END:STANDARD
BEGIN:DAYLIGHT
TZOFFSETFROM:+0100
TZOFFSETTO:+0200
TZNAME:CEST
DTSTART:20260329T010000
END:DAYLIGHT
BEGIN:STANDARD
TZOFFSETFROM:+0200
TZOFFSETTO:+0100
TZNAME:CET
DTSTART:20261025T010000
END:STANDARD
END:VTIMEZONE
BEGIN:VEVENT
DTSTART;TZID=Europe/Amsterdam:20250628T130000
DTEND;TZID=Europe/Amsterdam:20250628T170000
DTSTAMP:20260422T095020
CREATED:20250620T210113Z
LAST-MODIFIED:20250620T210113Z
UID:52744-1751115600-1751130000@omroepalmere.nl
SUMMARY:ZOMERMARKT BIJ HET BOODSCHAPPENHOEKJE
DESCRIPTION:Zaterdag 28 juni is het weer zover!\nWe organiseren weer een speciale zomermarkt bij Stichting Het Boodschappenhoekje Almere.\nDeze maand staan we mooie sieraden\, heel veel hobbyspullen\, allerlei soorten wol\, fournituren en vol op tweedehands zomerkleding.\nDe opbrengst gaat volledig naar onze stichting\, waarmee we mensen helpen die moeilijk of niet kunnen rondkomen.\n\nDus kom gezellig snuffelen én steun meteen een goed doel!
URL:https://omroepalmere.nl/evenement/zomermarkt-bij-het-boodschappenhoekje/
LOCATION:bivak 1 (oude politie bureau)\, Bivak 1\, Almere\, 1353 AA\, Nederland
CATEGORIES:Markt/Braderie
ATTACH;FMTTYPE=image/jpeg:https://omroepalmere.nl/wp-content/uploads/2025/06/Zomermarkt-vierkant.jpg
ORGANIZER;CN="Stichting Het Boodschappenhoekje Almere":MAILTO:havanos.1@kpnmail.nl
END:VEVENT
END:VCALENDAR